BEGIN:VCALENDAR
VERSION:2.0
PRODID:-//Bürgerverein Eglosheim e.V. - ECPv6.15.20//NONSGML v1.0//EN
CALSCALE:GREGORIAN
METHOD:PUBLISH
X-WR-CALNAME:Bürgerverein Eglosheim e.V.
X-ORIGINAL-URL:https://www2.buergerverein-eglosheim.de
X-WR-CALDESC:Veranstaltungen für Bürgerverein Eglosheim e.V.
REFRESH-INTERVAL;VALUE=DURATION:PT1H
X-Robots-Tag:noindex
X-PUBLISHED-TTL:PT1H
BEGIN:VTIMEZONE
TZID:Europe/Berlin
BEGIN:DAYLIGHT
TZOFFSETFROM:+0100
TZOFFSETTO:+0200
TZNAME:CEST
DTSTART:20240331T010000
END:DAYLIGHT
BEGIN:STANDARD
TZOFFSETFROM:+0200
TZOFFSETTO:+0100
TZNAME:CET
DTSTART:20241027T010000
END:STANDARD
BEGIN:DAYLIGHT
TZOFFSETFROM:+0100
TZOFFSETTO:+0200
TZNAME:CEST
DTSTART:20250330T010000
END:DAYLIGHT
BEGIN:STANDARD
TZOFFSETFROM:+0200
TZOFFSETTO:+0100
TZNAME:CET
DTSTART:20251026T010000
END:STANDARD
BEGIN:DAYLIGHT
TZOFFSETFROM:+0100
TZOFFSETTO:+0200
TZNAME:CEST
DTSTART:20260329T010000
END:DAYLIGHT
BEGIN:STANDARD
TZOFFSETFROM:+0200
TZOFFSETTO:+0100
TZNAME:CET
DTSTART:20261025T010000
END:STANDARD
END:VTIMEZONE
BEGIN:VEVENT
DTSTART;TZID=Europe/Berlin:20250208T153000
DTEND;TZID=Europe/Berlin:20250208T170000
DTSTAMP:20260425T132955
CREATED:20250103T124950Z
LAST-MODIFIED:20250103T124950Z
UID:1343-1739028600-1739034000@www2.buergerverein-eglosheim.de
SUMMARY:Jahreshauptversammlung Sportschützen
DESCRIPTION:
URL:https://www2.buergerverein-eglosheim.de/event/jahreshauptversammlung-sportschuetzen/
LOCATION:Sportschützenverein Egloseim e.V.\, Im Mäurach 1\, Ludwigsburg\, 71634
END:VEVENT
BEGIN:VEVENT
DTSTART;TZID=Europe/Berlin:20250215T110000
DTEND;TZID=Europe/Berlin:20250215T150000
DTSTAMP:20260425T132955
CREATED:20241113T191734Z
LAST-MODIFIED:20241113T191734Z
UID:1298-1739617200-1739631600@www2.buergerverein-eglosheim.de
SUMMARY:Winterschnittkurs und Wintergrillen
DESCRIPTION:Winterschnittkurs mit Herrn Weißbarth\, anschließend Wintergrillen.
URL:https://www2.buergerverein-eglosheim.de/event/winterschnittkurs-und-wintergrillen/
LOCATION:Bauerngarten Eglosheim\, Hirschbergstraße\, Ludwigsburg\, 71634
END:VEVENT
BEGIN:VEVENT
DTSTART;TZID=Europe/Berlin:20250221T190000
DTEND;TZID=Europe/Berlin:20250221T210000
DTSTAMP:20260425T132955
CREATED:20250103T125047Z
LAST-MODIFIED:20250103T125047Z
UID:1345-1740164400-1740171600@www2.buergerverein-eglosheim.de
SUMMARY:Mitgliederversammlung HVE
DESCRIPTION:
URL:https://www2.buergerverein-eglosheim.de/event/mitgliederversammlung-hve/
LOCATION:MVE-Heim\, Hirschbergstraße 4\, Ludwigsburg\, 71634
END:VEVENT
END:VCALENDAR