BEGIN:VCALENDAR
VERSION:2.0
PRODID:-//Bürgerverein Eglosheim e.V. - ECPv6.15.20//NONSGML v1.0//EN
CALSCALE:GREGORIAN
METHOD:PUBLISH
X-ORIGINAL-URL:https://www2.buergerverein-eglosheim.de
X-WR-CALDESC:Veranstaltungen für Bürgerverein Eglosheim e.V.
REFRESH-INTERVAL;VALUE=DURATION:PT1H
X-Robots-Tag:noindex
X-PUBLISHED-TTL:PT1H
BEGIN:VTIMEZONE
TZID:Europe/Berlin
BEGIN:DAYLIGHT
TZOFFSETFROM:+0100
TZOFFSETTO:+0200
TZNAME:CEST
DTSTART:20230326T010000
END:DAYLIGHT
BEGIN:STANDARD
TZOFFSETFROM:+0200
TZOFFSETTO:+0100
TZNAME:CET
DTSTART:20231029T010000
END:STANDARD
BEGIN:DAYLIGHT
TZOFFSETFROM:+0100
TZOFFSETTO:+0200
TZNAME:CEST
DTSTART:20240331T010000
END:DAYLIGHT
BEGIN:STANDARD
TZOFFSETFROM:+0200
TZOFFSETTO:+0100
TZNAME:CET
DTSTART:20241027T010000
END:STANDARD
BEGIN:DAYLIGHT
TZOFFSETFROM:+0100
TZOFFSETTO:+0200
TZNAME:CEST
DTSTART:20250330T010000
END:DAYLIGHT
BEGIN:STANDARD
TZOFFSETFROM:+0200
TZOFFSETTO:+0100
TZNAME:CET
DTSTART:20251026T010000
END:STANDARD
END:VTIMEZONE
BEGIN:VEVENT
DTSTART;TZID=Europe/Berlin:20241201T110000
DTEND;TZID=Europe/Berlin:20241201T210000
DTSTAMP:20260425T161720
CREATED:20241113T191528Z
LAST-MODIFIED:20241113T191528Z
UID:1296-1733050800-1733086800@www2.buergerverein-eglosheim.de
SUMMARY:MVE-Weihnachtsmarktstand
DESCRIPTION:Der Musikverein hat auch dieses Jahr wieder einen der beiden Sozialstände hinter der Stadtkirche.
URL:https://www2.buergerverein-eglosheim.de/event/mve-weihnachtsmarktstand/
LOCATION:Marktplatz Ludwigburg\, Marktplatz\, Ludwigsburg\, 71634
END:VEVENT
BEGIN:VEVENT
DTSTART;TZID=Europe/Berlin:20241201T130000
DTEND;TZID=Europe/Berlin:20241201T170000
DTSTAMP:20260425T161720
CREATED:20240401T105112Z
LAST-MODIFIED:20240401T105112Z
UID:1182-1733058000-1733072400@www2.buergerverein-eglosheim.de
SUMMARY:Museumsöffnung
DESCRIPTION:
URL:https://www2.buergerverein-eglosheim.de/event/museumsoeffnung-7/
LOCATION:Rathaus Eglosheim
END:VEVENT
BEGIN:VEVENT
DTSTART;TZID=Europe/Berlin:20241203T143000
DTEND;TZID=Europe/Berlin:20241203T143000
DTSTAMP:20260425T161720
CREATED:20240401T105152Z
LAST-MODIFIED:20240419T203028Z
UID:1184-1733236200-1733236200@www2.buergerverein-eglosheim.de
SUMMARY:"Sing mit" im Rathaus
DESCRIPTION:
URL:https://www2.buergerverein-eglosheim.de/event/sing-mit-im-rathaus-3/
LOCATION:Rathaus Eglosheim
END:VEVENT
BEGIN:VEVENT
DTSTART;TZID=Europe/Berlin:20241208T170000
DTEND;TZID=Europe/Berlin:20241208T170000
DTSTAMP:20260425T161720
CREATED:20240401T105233Z
LAST-MODIFIED:20240714T101832Z
UID:1186-1733677200-1733677200@www2.buergerverein-eglosheim.de
SUMMARY:Jahreskonzert MVE
DESCRIPTION:Der Musikverein Eglosheim hält sein festliches Jahreskonzert in der Katharinenkirche.
URL:https://www2.buergerverein-eglosheim.de/event/jahreskonzert/
LOCATION:Katharinenkirche Eglosheim
END:VEVENT
END:VCALENDAR