BEGIN:VCALENDAR
VERSION:2.0
PRODID:-//Bürgerverein Eglosheim e.V. - ECPv6.15.20//NONSGML v1.0//EN
CALSCALE:GREGORIAN
METHOD:PUBLISH
X-WR-CALNAME:Bürgerverein Eglosheim e.V.
X-ORIGINAL-URL:https://www2.buergerverein-eglosheim.de
X-WR-CALDESC:Veranstaltungen für Bürgerverein Eglosheim e.V.
REFRESH-INTERVAL;VALUE=DURATION:PT1H
X-Robots-Tag:noindex
X-PUBLISHED-TTL:PT1H
BEGIN:VTIMEZONE
TZID:Europe/Berlin
BEGIN:DAYLIGHT
TZOFFSETFROM:+0100
TZOFFSETTO:+0200
TZNAME:CEST
DTSTART:20230326T010000
END:DAYLIGHT
BEGIN:STANDARD
TZOFFSETFROM:+0200
TZOFFSETTO:+0100
TZNAME:CET
DTSTART:20231029T010000
END:STANDARD
BEGIN:DAYLIGHT
TZOFFSETFROM:+0100
TZOFFSETTO:+0200
TZNAME:CEST
DTSTART:20240331T010000
END:DAYLIGHT
BEGIN:STANDARD
TZOFFSETFROM:+0200
TZOFFSETTO:+0100
TZNAME:CET
DTSTART:20241027T010000
END:STANDARD
BEGIN:DAYLIGHT
TZOFFSETFROM:+0100
TZOFFSETTO:+0200
TZNAME:CEST
DTSTART:20250330T010000
END:DAYLIGHT
BEGIN:STANDARD
TZOFFSETFROM:+0200
TZOFFSETTO:+0100
TZNAME:CET
DTSTART:20251026T010000
END:STANDARD
END:VTIMEZONE
BEGIN:VEVENT
DTSTART;TZID=Europe/Berlin:20240706T120000
DTEND;TZID=Europe/Berlin:20240706T120000
DTSTAMP:20260425T233956
CREATED:20240401T103143Z
LAST-MODIFIED:20240702T215311Z
UID:1139-1720267200-1720267200@www2.buergerverein-eglosheim.de
SUMMARY:Sommerfest OGV
DESCRIPTION:
URL:https://www2.buergerverein-eglosheim.de/event/sommerfest/
LOCATION:Bauerngarten Eglosheim\, Hirschbergstraße\, Ludwigsburg\, 71634
END:VEVENT
BEGIN:VEVENT
DTSTART;TZID=Europe/Berlin:20240707T130000
DTEND;TZID=Europe/Berlin:20240707T170000
DTSTAMP:20260425T233956
CREATED:20240401T102928Z
LAST-MODIFIED:20240401T102928Z
UID:1137-1720357200-1720371600@www2.buergerverein-eglosheim.de
SUMMARY:Museumsöffnung
DESCRIPTION:
URL:https://www2.buergerverein-eglosheim.de/event/museumsoeffnung-4/
LOCATION:Rathaus Eglosheim
END:VEVENT
BEGIN:VEVENT
DTSTART;TZID=Europe/Berlin:20240714T180000
DTEND;TZID=Europe/Berlin:20240714T190000
DTSTAMP:20260425T233956
CREATED:20240401T103300Z
LAST-MODIFIED:20240714T071834Z
UID:1142-1720980000-1720983600@www2.buergerverein-eglosheim.de
SUMMARY:Serenadenkonzert
DESCRIPTION:Mit dem Chor der Katharinenkirche
URL:https://www2.buergerverein-eglosheim.de/event/serenadenkonzert/
LOCATION:Katharinenkirche Eglosheim
END:VEVENT
BEGIN:VEVENT
DTSTART;TZID=Europe/Berlin:20240719T160000
DTEND;TZID=Europe/Berlin:20240719T160000
DTSTAMP:20260425T233956
CREATED:20240401T103401Z
LAST-MODIFIED:20240505T200106Z
UID:1144-1721404800-1721404800@www2.buergerverein-eglosheim.de
SUMMARY:SKV-Vereinssportfest
DESCRIPTION:
URL:https://www2.buergerverein-eglosheim.de/event/vereinssportfest/
LOCATION:SKV-Stadion
END:VEVENT
END:VCALENDAR