BEGIN:VCALENDAR
VERSION:2.0
PRODID:-//Bürgerverein Eglosheim e.V. - ECPv6.15.20//NONSGML v1.0//EN
CALSCALE:GREGORIAN
METHOD:PUBLISH
X-WR-CALNAME:Bürgerverein Eglosheim e.V.
X-ORIGINAL-URL:https://www2.buergerverein-eglosheim.de
X-WR-CALDESC:Veranstaltungen für Bürgerverein Eglosheim e.V.
REFRESH-INTERVAL;VALUE=DURATION:PT1H
X-Robots-Tag:noindex
X-PUBLISHED-TTL:PT1H
BEGIN:VTIMEZONE
TZID:Europe/Berlin
BEGIN:DAYLIGHT
TZOFFSETFROM:+0100
TZOFFSETTO:+0200
TZNAME:CEST
DTSTART:20230326T010000
END:DAYLIGHT
BEGIN:STANDARD
TZOFFSETFROM:+0200
TZOFFSETTO:+0100
TZNAME:CET
DTSTART:20231029T010000
END:STANDARD
BEGIN:DAYLIGHT
TZOFFSETFROM:+0100
TZOFFSETTO:+0200
TZNAME:CEST
DTSTART:20240331T010000
END:DAYLIGHT
BEGIN:STANDARD
TZOFFSETFROM:+0200
TZOFFSETTO:+0100
TZNAME:CET
DTSTART:20241027T010000
END:STANDARD
BEGIN:DAYLIGHT
TZOFFSETFROM:+0100
TZOFFSETTO:+0200
TZNAME:CEST
DTSTART:20250330T010000
END:DAYLIGHT
BEGIN:STANDARD
TZOFFSETFROM:+0200
TZOFFSETTO:+0100
TZNAME:CET
DTSTART:20251026T010000
END:STANDARD
END:VTIMEZONE
BEGIN:VEVENT
DTSTART;TZID=Europe/Berlin:20240501T100000
DTEND;TZID=Europe/Berlin:20240501T100000
DTSTAMP:20260426T022720
CREATED:20240401T101439Z
LAST-MODIFIED:20240420T093402Z
UID:1108-1714557600-1714557600@www2.buergerverein-eglosheim.de
SUMMARY:Maiwanderung
DESCRIPTION:Treffpunkt um 10 Uhr am Eingang Favoritepark/Reuteallee\, von dort aus über den Heilbadweg nach Hoheneck zum Freibad. Hier beginnt die Führung durch die Zugwiesen und die Steillagen. Danach geht es weiter nach Neckarweihingen zu Einkehr und Ausklang bei Aberles Hofhocketse\, Aussiedlerhof Hag 3 (ca. 13.30 Uhr). Wer nicht so gut zu Fuß ist\, kann auch direkt zu den Zugwiesen bzw. zur Hocketse kommen.
URL:https://www2.buergerverein-eglosheim.de/event/maiwanderung/
END:VEVENT
BEGIN:VEVENT
DTSTART;TZID=Europe/Berlin:20240504T150000
DTEND;TZID=Europe/Berlin:20240505T200000
DTSTAMP:20260426T022720
CREATED:20240401T101558Z
LAST-MODIFIED:20240505T201656Z
UID:1111-1714834800-1714939200@www2.buergerverein-eglosheim.de
SUMMARY:Kelterplatzfest
DESCRIPTION:Mehr Informationen zum Kelterplatzfest gibt es hier.
URL:https://www2.buergerverein-eglosheim.de/event/kelterplatzfest/
LOCATION:Kelterplatz Eglosheim
END:VEVENT
BEGIN:VEVENT
DTSTART;TZID=Europe/Berlin:20240512T080000
DTEND;TZID=Europe/Berlin:20240515T233000
DTSTAMP:20260426T022720
CREATED:20240401T101812Z
LAST-MODIFIED:20240505T200344Z
UID:1116-1715500800-1715815800@www2.buergerverein-eglosheim.de
SUMMARY:Mehrtagesausflug zum Ammersee
DESCRIPTION:
URL:https://www2.buergerverein-eglosheim.de/event/mehrtagesausflug-zum-ammersee/
END:VEVENT
BEGIN:VEVENT
DTSTART;TZID=Europe/Berlin:20240512T130000
DTEND;TZID=Europe/Berlin:20240512T170000
DTSTAMP:20260426T022720
CREATED:20240401T101706Z
LAST-MODIFIED:20240401T101706Z
UID:1114-1715518800-1715533200@www2.buergerverein-eglosheim.de
SUMMARY:Museumsöffnung
DESCRIPTION:
URL:https://www2.buergerverein-eglosheim.de/event/museumsoeffnung-2/
LOCATION:Rathaus Eglosheim
END:VEVENT
END:VCALENDAR